BEGIN:VCALENDAR
VERSION:2.0
PRODID:-//eventon.com NONSGML v1.0//EN
CALSCALE:GREGORIAN
METHOD:PUBLISH
BEGIN:VEVENT
UID:69e9f4bd57da7
DTSTAMP:20260423T103021Z
DTSTART:20260622T140000Z
DTEND:20260624T220000Z
LOCATION:
SUMMARY:Legislative Conference IAM Union
DESCRIPTION:Legislative Conference IAM Union\nhttps://districtlodge19.org/e
 vents/conference/
URL:https://districtlodge19.org/events/conference/
END:VEVENT
END:VCALENDAR